BEGIN:VCALENDAR
VERSION:2.0
PRODID:-//HMS Learning Through Equine - ECPv6.15.20//NONSGML v1.0//EN
CALSCALE:GREGORIAN
METHOD:PUBLISH
X-ORIGINAL-URL:https://horsebasedhealing.ca
X-WR-CALDESC:Events for HMS Learning Through Equine
REFRESH-INTERVAL;VALUE=DURATION:PT1H
X-Robots-Tag:noindex
X-PUBLISHED-TTL:PT1H
BEGIN:VTIMEZONE
TZID:UTC
BEGIN:STANDARD
TZOFFSETFROM:+0000
TZOFFSETTO:+0000
TZNAME:UTC
DTSTART:20250101T000000
END:STANDARD
END:VTIMEZONE
BEGIN:VEVENT
DTSTART;TZID=UTC:20260429T103000
DTEND;TZID=UTC:20260429T163000
DTSTAMP:20260421T044410
CREATED:20260224T173314Z
LAST-MODIFIED:20260224T173314Z
UID:558-1777458600-1777480200@horsebasedhealing.ca
SUMMARY:Sixties Scoop Initiative Workshop - Fully Booked
DESCRIPTION:A workshop rooted in healing and hope that is created for Sixties Scoop Survivors to reconnect with self\, culture\, and community through shared stories\, safe spaces and the gentle guidance of horses. Lunch is included\, giving participants time to relax and connect with one another as part of this restorative experience.
URL:https://horsebasedhealing.ca/event/sixties-scoop-initiative-workshop-fully-booked-3/
END:VEVENT
END:VCALENDAR