BEGIN:VCALENDAR
VERSION:2.0
PRODID:-//HMS Learning Through Equine - ECPv6.15.20//NONSGML v1.0//EN
CALSCALE:GREGORIAN
METHOD:PUBLISH
X-WR-CALNAME:HMS Learning Through Equine
X-ORIGINAL-URL:https://horsebasedhealing.ca
X-WR-CALDESC:Events for HMS Learning Through Equine
REFRESH-INTERVAL;VALUE=DURATION:PT1H
X-Robots-Tag:noindex
X-PUBLISHED-TTL:PT1H
BEGIN:VTIMEZONE
TZID:UTC
BEGIN:STANDARD
TZOFFSETFROM:+0000
TZOFFSETTO:+0000
TZNAME:UTC
DTSTART:20250101T000000
END:STANDARD
END:VTIMEZONE
BEGIN:VEVENT
DTSTART;TZID=UTC:20260422T103000
DTEND;TZID=UTC:20260422T163000
DTSTAMP:20260421T012346
CREATED:20260224T173243Z
LAST-MODIFIED:20260224T173243Z
UID:556-1776853800-1776875400@horsebasedhealing.ca
SUMMARY:Sixties Scoop Initiative Workshop - Fully Booked
DESCRIPTION:A workshop rooted in healing and hope that is created for Sixties Scoop Survivors to reconnect with self\, culture\, and community through shared stories\, safe spaces and the gentle guidance of horses. Lunch is included\, giving participants time to relax and connect with one another as part of this restorative experience.
URL:https://horsebasedhealing.ca/event/sixties-scoop-initiative-workshop-fully-booked-2/
END:VEVENT
BEGIN:VEVENT
DTSTART;TZID=UTC:20260429T103000
DTEND;TZID=UTC:20260429T163000
DTSTAMP:20260421T012346
CREATED:20260224T173314Z
LAST-MODIFIED:20260224T173314Z
UID:558-1777458600-1777480200@horsebasedhealing.ca
SUMMARY:Sixties Scoop Initiative Workshop - Fully Booked
DESCRIPTION:A workshop rooted in healing and hope that is created for Sixties Scoop Survivors to reconnect with self\, culture\, and community through shared stories\, safe spaces and the gentle guidance of horses. Lunch is included\, giving participants time to relax and connect with one another as part of this restorative experience.
URL:https://horsebasedhealing.ca/event/sixties-scoop-initiative-workshop-fully-booked-3/
END:VEVENT
BEGIN:VEVENT
DTSTART;TZID=UTC:20260501T103000
DTEND;TZID=UTC:20260501T163000
DTSTAMP:20260421T012346
CREATED:20260224T173444Z
LAST-MODIFIED:20260224T173731Z
UID:562-1777631400-1777653000@horsebasedhealing.ca
SUMMARY:Professional Development - Booked
DESCRIPTION:Step outside the boardroom and into an environment where leadership\, trust\, and collaboration are experienced — not just discussed. Through facilitated equine-assisted activities\, teams develop stronger communication\, clearer boundaries\, and greater accountability in a way that translates directly back to the workplace.
URL:https://horsebasedhealing.ca/event/sixties-scoop-initiative-workshop-fully-booked-5/
END:VEVENT
BEGIN:VEVENT
DTSTART;TZID=UTC:20260506T103000
DTEND;TZID=UTC:20260506T163000
DTSTAMP:20260421T012346
CREATED:20260224T173405Z
LAST-MODIFIED:20260224T173417Z
UID:560-1778063400-1778085000@horsebasedhealing.ca
SUMMARY:Sixties Scoop Initiative Workshop - Fully Booked
DESCRIPTION:A workshop rooted in healing and hope that is created for Sixties Scoop Survivors to reconnect with self\, culture\, and community through shared stories\, safe spaces and the gentle guidance of horses. Lunch is included\, giving participants time to relax and connect with one another as part of this restorative experience.
URL:https://horsebasedhealing.ca/event/sixties-scoop-initiative-workshop-fully-booked-4/
END:VEVENT
BEGIN:VEVENT
DTSTART;TZID=UTC:20260513T103000
DTEND;TZID=UTC:20260513T163000
DTSTAMP:20260421T012346
CREATED:20260224T173519Z
LAST-MODIFIED:20260224T173519Z
UID:564-1778668200-1778689800@horsebasedhealing.ca
SUMMARY:Sixties Scoop Initiative Workshop - Fully Booked
DESCRIPTION:A workshop rooted in healing and hope that is created for Sixties Scoop Survivors to reconnect with self\, culture\, and community through shared stories\, safe spaces and the gentle guidance of horses. Lunch is included\, giving participants time to relax and connect with one another as part of this restorative experience.
URL:https://horsebasedhealing.ca/event/sixties-scoop-initiative-workshop-fully-booked-6/
END:VEVENT
BEGIN:VEVENT
DTSTART;TZID=UTC:20260520T103000
DTEND;TZID=UTC:20260520T163000
DTSTAMP:20260421T012346
CREATED:20260224T173553Z
LAST-MODIFIED:20260224T173553Z
UID:566-1779273000-1779294600@horsebasedhealing.ca
SUMMARY:Sixties Scoop Initiative Workshop - Fully Booked
DESCRIPTION:A workshop rooted in healing and hope that is created for Sixties Scoop Survivors to reconnect with self\, culture\, and community through shared stories\, safe spaces and the gentle guidance of horses. Lunch is included\, giving participants time to relax and connect with one another as part of this restorative experience.
URL:https://horsebasedhealing.ca/event/sixties-scoop-initiative-workshop-fully-booked-7/
END:VEVENT
BEGIN:VEVENT
DTSTART;TZID=UTC:20260527T103000
DTEND;TZID=UTC:20260527T163000
DTSTAMP:20260421T012346
CREATED:20260224T173627Z
LAST-MODIFIED:20260224T173627Z
UID:568-1779877800-1779899400@horsebasedhealing.ca
SUMMARY:Sixties Scoop Initiative Workshop - Fully Booked
DESCRIPTION:A workshop rooted in healing and hope that is created for Sixties Scoop Survivors to reconnect with self\, culture\, and community through shared stories\, safe spaces and the gentle guidance of horses. Lunch is included\, giving participants time to relax and connect with one another as part of this restorative experience.
URL:https://horsebasedhealing.ca/event/sixties-scoop-initiative-workshop-fully-booked-8/
END:VEVENT
BEGIN:VEVENT
DTSTART;TZID=UTC:20260603T080000
DTEND;TZID=UTC:20260603T170000
DTSTAMP:20260421T012346
CREATED:20260224T174114Z
LAST-MODIFIED:20260224T174114Z
UID:573-1780473600-1780506000@horsebasedhealing.ca
SUMMARY:Reserved for a Private Group
DESCRIPTION:Interested in booking a private group experience? Contact us at info@horsebasedhealing.ca
URL:https://horsebasedhealing.ca/event/reserved-for-a-private-group-5/
END:VEVENT
BEGIN:VEVENT
DTSTART;TZID=UTC:20260604T080000
DTEND;TZID=UTC:20260604T170000
DTSTAMP:20260421T012346
CREATED:20260224T174138Z
LAST-MODIFIED:20260224T174138Z
UID:575-1780560000-1780592400@horsebasedhealing.ca
SUMMARY:Reserved for a Private Group
DESCRIPTION:Interested in booking a private group experience? Contact us at info@horsebasedhealing.ca
URL:https://horsebasedhealing.ca/event/reserved-for-a-private-group-6/
END:VEVENT
BEGIN:VEVENT
DTSTART;TZID=UTC:20260610T080000
DTEND;TZID=UTC:20260610T170000
DTSTAMP:20260421T012346
CREATED:20260224T174204Z
LAST-MODIFIED:20260224T174204Z
UID:577-1781078400-1781110800@horsebasedhealing.ca
SUMMARY:Reserved for a Private Group
DESCRIPTION:Interested in booking a private group experience? Contact us at info@horsebasedhealing.ca
URL:https://horsebasedhealing.ca/event/reserved-for-a-private-group-7/
END:VEVENT
BEGIN:VEVENT
DTSTART;TZID=UTC:20260611T080000
DTEND;TZID=UTC:20260611T170000
DTSTAMP:20260421T012346
CREATED:20260224T174229Z
LAST-MODIFIED:20260224T174229Z
UID:579-1781164800-1781197200@horsebasedhealing.ca
SUMMARY:Reserved for a Private Group
DESCRIPTION:Interested in booking a private group experience? Contact us at info@horsebasedhealing.ca
URL:https://horsebasedhealing.ca/event/reserved-for-a-private-group-8/
END:VEVENT
BEGIN:VEVENT
DTSTART;TZID=UTC:20260617T103000
DTEND;TZID=UTC:20260617T163000
DTSTAMP:20260421T012346
CREATED:20260224T174030Z
LAST-MODIFIED:20260224T174030Z
UID:571-1781692200-1781713800@horsebasedhealing.ca
SUMMARY:Sixties Scoop Initiative Workshop - Fully Booked
DESCRIPTION:A workshop rooted in healing and hope that is created for Sixties Scoop Survivors to reconnect with self\, culture\, and community through shared stories\, safe spaces and the gentle guidance of horses. Lunch is included\, giving participants time to relax and connect with one another as part of this restorative experience.
URL:https://horsebasedhealing.ca/event/sixties-scoop-initiative-workshop-fully-booked-9/
END:VEVENT
BEGIN:VEVENT
DTSTART;TZID=UTC:20260708T103000
DTEND;TZID=UTC:20260708T163000
DTSTAMP:20260421T012346
CREATED:20260224T174304Z
LAST-MODIFIED:20260224T174304Z
UID:581-1783506600-1783528200@horsebasedhealing.ca
SUMMARY:Sixties Scoop Initiative Workshop - Fully Booked
DESCRIPTION:A workshop rooted in healing and hope that is created for Sixties Scoop Survivors to reconnect with self\, culture\, and community through shared stories\, safe spaces and the gentle guidance of horses. Lunch is included\, giving participants time to relax and connect with one another as part of this restorative experience.
URL:https://horsebasedhealing.ca/event/sixties-scoop-initiative-workshop-fully-booked-10/
END:VEVENT
BEGIN:VEVENT
DTSTART;TZID=UTC:20260715T103000
DTEND;TZID=UTC:20260715T163000
DTSTAMP:20260421T012346
CREATED:20260224T174337Z
LAST-MODIFIED:20260224T174337Z
UID:583-1784111400-1784133000@horsebasedhealing.ca
SUMMARY:Sixties Scoop Initiative Workshop - Fully Booked
DESCRIPTION:A workshop rooted in healing and hope that is created for Sixties Scoop Survivors to reconnect with self\, culture\, and community through shared stories\, safe spaces and the gentle guidance of horses. Lunch is included\, giving participants time to relax and connect with one another as part of this restorative experience.
URL:https://horsebasedhealing.ca/event/sixties-scoop-initiative-workshop-fully-booked-11/
END:VEVENT
END:VCALENDAR